BEGIN:VCALENDAR
VERSION:2.0
PRODID:-//Sophicity/Tribune/Twin City, GA
BEGIN:VEVENT
DTSTAMP:20260422T083140Z
UID:45e96e8a-4221-47eb-a199-77a8fc0db0e4-5941
DTSTART:20220201T233000Z
DTEND:20220202T003000Z
CLASS:PUBLIC
SUMMARY:Regular Meeting
END:VEVENT
END:VCALENDAR
